BEGIN:VCALENDAR
VERSION:2.0
PRODID:-//United Nations Alliance of Civilizations (UNAOC) - ECPv5.14.2.1//NONSGML v1.0//EN
CALSCALE:GREGORIAN
METHOD:PUBLISH
X-WR-CALNAME:United Nations Alliance of Civilizations (UNAOC)
X-ORIGINAL-URL:https://www.unaoc.org
X-WR-CALDESC:Events for United Nations Alliance of Civilizations (UNAOC)
BEGIN:VTIMEZONE
TZID:America/Halifax
BEGIN:DAYLIGHT
TZOFFSETFROM:-0400
TZOFFSETTO:-0300
TZNAME:ADT
DTSTART:20180311T060000
END:DAYLIGHT
BEGIN:STANDARD
TZOFFSETFROM:-0300
TZOFFSETTO:-0400
TZNAME:AST
DTSTART:20181104T050000
END:STANDARD
END:VTIMEZONE
BEGIN:VEVENT
DTSTART;TZID=America/Halifax:20180718T173000
DTEND;TZID=America/Halifax:20180718T203000
DTSTAMP:20221113T132348
CREATED:20180717T172153Z
LAST-MODIFIED:20180717T172352Z
UID:24478-1531935000-1531945800@www.unaoc.org
SUMMARY:A Celebration for an International Day of Education for Global Citizenship
DESCRIPTION:Organized by:\nThe NGO Steering Committee for an International Day of Education for Global Citizenship (IDEGC) in collaboration with UNESCO-NY\, the UN Academic Impact\, and the United Nations Alliance of Civilization (UNAOC) \nSponsored by:\nThe Missions of the Republic of Korea and the State of Qatar to the United Nations \nOn July 18\, 2014\, global citizenship was added to the language of SDG 4.7. Our celebration marks the anniversary of that date and reaffirms the commitment made in Gyeongju to establish an International Day of Education for Global Citizenship at the United Nations. \nAn International Day of Education for Global Citizenship will be a day to spotlight SDG 4: Quality Education\, in particular SDG 4.7: “the knowledge and skills needed to promote sustainable development\, including\, among others\, through education for sustainable development and sustainable lifestyles\, human rights\, gender equality\, promotion of a culture of peace and non-violence\, global citizenship and appreciation of cultural diversity and of culture’s contribution to sustainable development.” \nDownload (PDF\, 313KB) \n\nShare thisClick to share on Twitter (Opens in new window)Click to share on Facebook (Opens in new window)Click to share on LinkedIn (Opens in new window)Click to share on Pinterest (Opens in new window)Click to share on Skype (Opens in new window)Click to share on WhatsApp (Opens in new window)Click to email a link to a friend (Opens in new window)MoreClick to share on Reddit (Opens in new window)Click to share on Tumblr (Opens in new window)Click to print (Opens in new window)Click to share on Pocket (Opens in new window)Click to share on Telegram (Opens in new window)
URL:https://www.unaoc.org/event/celebration-for-an-international-day-of-education-for-global-citizenship/
LOCATION:The Mission of the Republic of Korea to the United Nations\, 335 E 45th St\, New York\, NY\, 10017
CATEGORIES:Panel Discussion
END:VEVENT
END:VCALENDAR