BEGIN:VCALENDAR
VERSION:2.0
PRODID:-//United Nations Alliance of Civilizations (UNAOC) - ECPv5.14.2.1//NONSGML v1.0//EN
CALSCALE:GREGORIAN
METHOD:PUBLISH
X-WR-CALNAME:United Nations Alliance of Civilizations (UNAOC)
X-ORIGINAL-URL:https://www.unaoc.org
X-WR-CALDESC:Events for United Nations Alliance of Civilizations (UNAOC)
BEGIN:VTIMEZONE
TZID:America/Halifax
BEGIN:DAYLIGHT
TZOFFSETFROM:-0400
TZOFFSETTO:-0300
TZNAME:ADT
DTSTART:20150308T060000
END:DAYLIGHT
BEGIN:STANDARD
TZOFFSETFROM:-0300
TZOFFSETTO:-0400
TZNAME:AST
DTSTART:20151101T050000
END:STANDARD
END:VTIMEZONE
BEGIN:VEVENT
DTSTART;TZID=America/Halifax:20150730T235500
DTEND;TZID=America/Halifax:20150730T235500
DTSTAMP:20221113T162601
CREATED:20150701T140741Z
LAST-MODIFIED:20150713T165451Z
UID:14520-1438300500-1438300500@www.unaoc.org
SUMMARY:Call for Applications: Entrepreneurs for Social Change (E4SC)
DESCRIPTION:Entrepreneurs for Social Change is a one-year programme of the United Nations Alliance of Civilizations and Fondazione CRT\, which aims to support young social entrepreneurs in the Euro-Med region. \nThe 2015 edition of the program will start with a training\, held from the 18th to the 25th October 2015 in Torino\, Italy. \nPlease note that the application deadline is 11:59 PM\, New York	time\, 30th July	2015. \nFor more information\, please visit https://e4sc.org/. \nShare thisClick to share on Twitter (Opens in new window)Click to share on Facebook (Opens in new window)Click to share on LinkedIn (Opens in new window)Click to share on Pinterest (Opens in new window)Click to share on Skype (Opens in new window)Click to share on WhatsApp (Opens in new window)Click to email a link to a friend (Opens in new window)MoreClick to share on Reddit (Opens in new window)Click to share on Tumblr (Opens in new window)Click to print (Opens in new window)Click to share on Pocket (Opens in new window)Click to share on Telegram (Opens in new window)
URL:https://www.unaoc.org/event/call-for-applications-entrepreneurs-for-social-change/
CATEGORIES:Calls For Applications
END:VEVENT
END:VCALENDAR