BEGIN:VCALENDAR
VERSION:2.0
PRODID:-//United Nations Alliance of Civilizations (UNAOC) - ECPv5.14.2.1//NONSGML v1.0//EN
CALSCALE:GREGORIAN
METHOD:PUBLISH
X-WR-CALNAME:United Nations Alliance of Civilizations (UNAOC)
X-ORIGINAL-URL:https://www.unaoc.org
X-WR-CALDESC:Events for United Nations Alliance of Civilizations (UNAOC)
BEGIN:VTIMEZONE
TZID:America/Halifax
BEGIN:DAYLIGHT
TZOFFSETFROM:-0400
TZOFFSETTO:-0300
TZNAME:ADT
DTSTART:20180311T060000
END:DAYLIGHT
BEGIN:STANDARD
TZOFFSETFROM:-0300
TZOFFSETTO:-0400
TZNAME:AST
DTSTART:20181104T050000
END:STANDARD
END:VTIMEZONE
BEGIN:VEVENT
DTSTART;VALUE=DATE:20180408
DTEND;VALUE=DATE:20180416
DTSTAMP:20221113T105034
CREATED:20180312T134030Z
LAST-MODIFIED:20180409T193203Z
UID:23306-1523145600-1523836799@www.unaoc.org
SUMMARY:Deadline Extended:  2018 Edition of the UNAOC Fellowship Programme
DESCRIPTION:UNAOC is pleased to launch the Call for Applications for the 2018 edition of its Fellowship Programme. The Call is open to participants between 25 to 35 years old\, from the Middle East\, North Africa\, Europe and North America\, with a strong interest in intercultural exchanges. The theme of the Fellowship 2018 being “Fostering youth resilience to prevent violent extremism and build sustainable peace”\, candidates must also be able to present professional achievements in these fields. Read more here. \nNote: The deadline has been extended to Sunday\, 15 April\, 2018\, 11:59 PM. \nShare thisClick to share on Twitter (Opens in new window)Click to share on Facebook (Opens in new window)Click to share on LinkedIn (Opens in new window)Click to share on Pinterest (Opens in new window)Click to share on Skype (Opens in new window)Click to share on WhatsApp (Opens in new window)Click to email a link to a friend (Opens in new window)MoreClick to share on Reddit (Opens in new window)Click to share on Tumblr (Opens in new window)Click to print (Opens in new window)Click to share on Pocket (Opens in new window)Click to share on Telegram (Opens in new window)
URL:https://www.unaoc.org/event/call-for-applications-2018-edition-of-the-unaoc-fellowship-programme/
CATEGORIES:Calls For Applications
ATTACH;FMTTYPE=image/png:https://www.unaoc.org/wp-content/uploads/fellowship_quotecards_extended1.png
END:VEVENT
END:VCALENDAR