BEGIN:VCALENDAR
VERSION:2.0
PRODID:-//United Nations Alliance of Civilizations (UNAOC) - ECPv5.14.2.1//NONSGML v1.0//EN
CALSCALE:GREGORIAN
METHOD:PUBLISH
X-WR-CALNAME:United Nations Alliance of Civilizations (UNAOC)
X-ORIGINAL-URL:https://www.unaoc.org
X-WR-CALDESC:Events for United Nations Alliance of Civilizations (UNAOC)
BEGIN:VTIMEZONE
TZID:America/Halifax
BEGIN:DAYLIGHT
TZOFFSETFROM:-0400
TZOFFSETTO:-0300
TZNAME:ADT
DTSTART:20160313T060000
END:DAYLIGHT
BEGIN:STANDARD
TZOFFSETFROM:-0300
TZOFFSETTO:-0400
TZNAME:AST
DTSTART:20161106T050000
END:STANDARD
END:VTIMEZONE
BEGIN:VEVENT
DTSTART;VALUE=DATE:20160626
DTEND;VALUE=DATE:20160627
DTSTAMP:20221113T141535
CREATED:20160518T135040Z
LAST-MODIFIED:20160518T135951Z
UID:17448-1466899200-1466985599@www.unaoc.org
SUMMARY:Call for Applications: UNAOC Fellowship Program 2016
DESCRIPTION:Deadline: June 26\, 2016 \nThe main objective of the Fellowship Program is to challenge cultural stereotypes and develop cross-cultural partnerships between peoples from different faiths and cultures. During two weeks\, the EUNA cohort and the MENA cohort will visit each other’s region and interact with a wide range of local actors and partners. In 2016\, the Fellowship Program will also focus on Education as a tool to prevent of radicalization and xenophobia. \nCandidates from Europe and North America (EUNA) and from the Middle East and North Africa (MENA) can now apply until Sunday\, June 26th\, 2016 to participate in the 2016 edition of the UNAOC Fellowship Program. \nFor more information\, visit the UNAOC Fellowship Program website. \nShare thisClick to share on Twitter (Opens in new window)Click to share on Facebook (Opens in new window)Click to share on LinkedIn (Opens in new window)Click to share on Pinterest (Opens in new window)Click to share on Skype (Opens in new window)Click to share on WhatsApp (Opens in new window)Click to email a link to a friend (Opens in new window)MoreClick to share on Reddit (Opens in new window)Click to share on Tumblr (Opens in new window)Click to print (Opens in new window)Click to share on Pocket (Opens in new window)Click to share on Telegram (Opens in new window)
URL:https://www.unaoc.org/event/call-for-application-unaoc-fellowship-program-2016/
CATEGORIES:Calls For Applications
END:VEVENT
END:VCALENDAR