BEGIN:VCALENDAR
VERSION:2.0
PRODID:-//United Nations Alliance of Civilizations (UNAOC) - ECPv5.14.2.1//NONSGML v1.0//EN
CALSCALE:GREGORIAN
METHOD:PUBLISH
X-WR-CALNAME:United Nations Alliance of Civilizations (UNAOC)
X-ORIGINAL-URL:https://www.unaoc.org
X-WR-CALDESC:Events for United Nations Alliance of Civilizations (UNAOC)
BEGIN:VTIMEZONE
TZID:America/Halifax
BEGIN:DAYLIGHT
TZOFFSETFROM:-0400
TZOFFSETTO:-0300
TZNAME:ADT
DTSTART:20190310T060000
END:DAYLIGHT
BEGIN:STANDARD
TZOFFSETFROM:-0300
TZOFFSETTO:-0400
TZNAME:AST
DTSTART:20191103T050000
END:STANDARD
END:VTIMEZONE
BEGIN:VEVENT
DTSTART;TZID=America/Halifax:20190912T110000
DTEND;TZID=America/Halifax:20190912T123000
DTSTAMP:20221113T145849
CREATED:20190909T195806Z
LAST-MODIFIED:20190911T131755Z
UID:26251-1568286000-1568291400@www.unaoc.org
SUMMARY:Informal Briefing by the Secretary-General on the United Nations Plan of Action to Safeguard Religious Sites: In Unity and Solidarity for Safe and Peaceful Worship
DESCRIPTION:The United Nations Secretary-General\, H.E. Mr. António Guterres\, will brief Member States regarding the United Nations Plan of Action to Safeguard Religious Sites: In Unity and Solidarity for Safe and Peaceful Worship. \nThe Plan of Action has been elaborated by the United Nations Alliance of Civilizations (UNAOC) in the aftermath of the horrific attacks on two mosques that took place in Christchurch\, New Zealand\, on the Tree of Life synagogue in Pittsburgh\, and on the three Catholic churches in Sri Lanka on Easter Sunday\, as well as increasing occurrences of other hatred attacks targeting religious sites worldwide. \nThe Plan of Action was prepared following an extensive series of consultations with governments\, United Nations entities\, faith-based organizations\, religious leaders and other relevant stakeholders\, conducted by the office of the United Nations Alliance of Civilizations during the period from April to July 2019. \nShare thisClick to share on Twitter (Opens in new window)Click to share on Facebook (Opens in new window)Click to share on LinkedIn (Opens in new window)Click to share on Pinterest (Opens in new window)Click to share on Skype (Opens in new window)Click to share on WhatsApp (Opens in new window)Click to email a link to a friend (Opens in new window)MoreClick to share on Reddit (Opens in new window)Click to share on Tumblr (Opens in new window)Click to print (Opens in new window)Click to share on Pocket (Opens in new window)Click to share on Telegram (Opens in new window)
URL:https://www.unaoc.org/event/briefing-on-the-united-nations-plan-of-action-to-safeguard-religious-sites/
LOCATION:UNHQ ECOSOC Chamber\, United Nations Headquarters\, New York\, NY\, 10017\, United States
CATEGORIES:UNAOC Events
END:VEVENT
END:VCALENDAR