BEGIN:VCALENDAR
VERSION:2.0
PRODID:-//United Nations Alliance of Civilizations (UNAOC) - ECPv5.14.2.1//NONSGML v1.0//EN
CALSCALE:GREGORIAN
METHOD:PUBLISH
X-WR-CALNAME:United Nations Alliance of Civilizations (UNAOC)
X-ORIGINAL-URL:https://www.unaoc.org
X-WR-CALDESC:Events for United Nations Alliance of Civilizations (UNAOC)
BEGIN:VTIMEZONE
TZID:America/Halifax
BEGIN:DAYLIGHT
TZOFFSETFROM:-0400
TZOFFSETTO:-0300
TZNAME:ADT
DTSTART:20130310T060000
END:DAYLIGHT
BEGIN:STANDARD
TZOFFSETFROM:-0300
TZOFFSETTO:-0400
TZNAME:AST
DTSTART:20131103T050000
END:STANDARD
END:VTIMEZONE
BEGIN:VEVENT
DTSTART;VALUE=DATE:20131024
DTEND;VALUE=DATE:20131027
DTSTAMP:20221113T163059
CREATED:20131021T143330Z
LAST-MODIFIED:20131022T143515Z
UID:9287-1382572800-1382831999@www.unaoc.org
SUMMARY:Alumni Consultative Group of the Fellowship Programme
DESCRIPTION:From the 23rd of October to the 26th\, the United Nations Alliance of Civilizations (UNAOC) Fellowship Programme\, will be hosting an Alumni gathering of 11 fellows from past Fellowship Programme editions.  \nThis gathering will aim at finalizing the Baku Report and at preparing strategic recommendations for the development of an Alumni Network Action Plan.  \nThe UNAOC’s Fellowship Programme focuses on creating opportunities for young leaders\, across the Arab world and the West\, to increase mutual understanding through experiential learning and direct interaction with civil society. The first Alumni meeting of the fellowship programme took place on the 31st of May 2013 in conjunction with the 2nd World Forum on Intercultural Dialogue in Baku\, Azerbaijan.  \nThe Gathering of this Alumni Consultative Group from the 23rd to the 26th of October will focus on building incrementally on the conclusions of the Baku Report. This report will focus mainly on the improvement of the format and content of the fellowship programme but also on a grounded reflection concerning the West-Muslim relationship. \nTo construct on the success of the past editions and with the Baku Report in hand\, the Alumni Network Action Plan will endeavor to create a Network that can further prolong and develop the ties and newly shared perspectives of the fellows. \nThe first day of the Alumni gathering will begin with a Debriefing Kick-off meeting and a presentation of keynote speeches by the UNAOC senior management and partners addressed to the Alumni fellows. The rest of the day will focus on building and consolidating the Baku Report. \nThe second day will consist of training and discussion on strategies and tools to sustain the UNAOC’s Fellowship Alumni Network with the support of the fellowship programme’s partner the Institute of International Education.  \nThe programme is made possible thanks to a grant of the Federal Foreign office of Germany and the Hermes Foundation and is developed in partnership with the League of Arab States\, the British Council\, Islamic Educational Scientific and Cultural Organization (ISESCO)\, Qatar Committee for the Alliance of Civilizations\, the Organisation of Islamic Cooperation (OIC)\, the Institute for International Education and The Ministry of Foreign Affairs of Jordan.\nThe Fellowship Programme is the first and only young leaders’ exchange programme developed jointly with partners and resources from the Arab and Muslim world\, Europe\, and the United States. \nShare thisClick to share on Twitter (Opens in new window)Click to share on Facebook (Opens in new window)Click to share on LinkedIn (Opens in new window)Click to share on Pinterest (Opens in new window)Click to share on Skype (Opens in new window)Click to share on WhatsApp (Opens in new window)Click to email a link to a friend (Opens in new window)MoreClick to share on Reddit (Opens in new window)Click to share on Tumblr (Opens in new window)Click to print (Opens in new window)Click to share on Pocket (Opens in new window)Click to share on Telegram (Opens in new window)
URL:https://www.unaoc.org/event/alumni-consultative-group-of-the-fellowship-programme/
END:VEVENT
END:VCALENDAR