BEGIN:VCALENDAR
VERSION:2.0
PRODID:-//United Nations Alliance of Civilizations (UNAOC) - ECPv5.14.2.1//NONSGML v1.0//EN
CALSCALE:GREGORIAN
METHOD:PUBLISH
X-WR-CALNAME:United Nations Alliance of Civilizations (UNAOC)
X-ORIGINAL-URL:https://www.unaoc.org
X-WR-CALDESC:Events for United Nations Alliance of Civilizations (UNAOC)
BEGIN:VTIMEZONE
TZID:America/Halifax
BEGIN:DAYLIGHT
TZOFFSETFROM:-0400
TZOFFSETTO:-0300
TZNAME:ADT
DTSTART:20190310T060000
END:DAYLIGHT
BEGIN:STANDARD
TZOFFSETFROM:-0300
TZOFFSETTO:-0400
TZNAME:AST
DTSTART:20191103T050000
END:STANDARD
END:VTIMEZONE
BEGIN:VEVENT
DTSTART;VALUE=DATE:20190710
DTEND;VALUE=DATE:20190712
DTSTAMP:20221113T145833
CREATED:20190626T134427Z
LAST-MODIFIED:20190626T134825Z
UID:25951-1562716800-1562889599@www.unaoc.org
SUMMARY:African Regional High-Level Conference on Counter-Terrorism and the Prevention of Violent Extremism Conducive to Terrorism
DESCRIPTION:The United Nations is taking a leading role in assisting Member States in their efforts to prevent and counter terrorism\, including violent extremism conducive to it. In order to enhance our understanding of the terrorism threats faced by African countries\, to share good practices and lessons learned\, and to identify how cooperation among Member States and with the United Nations can be made more effective\, the Republic of Kenya and the United Nations will convene on 10-11 July 2019 at the United Nations Office at Nairobi the African Regional High-Level Conference on Counter-Terrorism and the Prevention of Violent Extremism Conducive to Terrorism. This regional conference will inform the next United Nations High-level Conference of Heads of Counter-Terrorism Agencies of Member States to be held June 2020. The conference will take place in an interactive format. Click here to learn more. \nShare thisClick to share on Twitter (Opens in new window)Click to share on Facebook (Opens in new window)Click to share on LinkedIn (Opens in new window)Click to share on Pinterest (Opens in new window)Click to share on Skype (Opens in new window)Click to share on WhatsApp (Opens in new window)Click to email a link to a friend (Opens in new window)MoreClick to share on Reddit (Opens in new window)Click to share on Tumblr (Opens in new window)Click to print (Opens in new window)Click to share on Pocket (Opens in new window)Click to share on Telegram (Opens in new window)
URL:https://www.unaoc.org/event/african-regional-high-level-conference-on-counter-terrorism-and-the-prevention-of-violent-extremism-conducive-to-terrorism/
LOCATION:Nairobi\, Kenya\, Nairobi\, Kenya
CATEGORIES:International Conference
END:VEVENT
END:VCALENDAR