BEGIN:VCALENDAR
VERSION:2.0
PRODID:-//United Nations Alliance of Civilizations (UNAOC) - ECPv5.14.2.1//NONSGML v1.0//EN
CALSCALE:GREGORIAN
METHOD:PUBLISH
X-WR-CALNAME:United Nations Alliance of Civilizations (UNAOC)
X-ORIGINAL-URL:https://www.unaoc.org
X-WR-CALDESC:Events for United Nations Alliance of Civilizations (UNAOC)
BEGIN:VTIMEZONE
TZID:Asia/Dubai
BEGIN:STANDARD
TZOFFSETFROM:+0400
TZOFFSETTO:+0400
TZNAME:+04
DTSTART:20210101T000000
END:STANDARD
END:VTIMEZONE
BEGIN:VEVENT
DTSTART;TZID=Asia/Dubai:20210204T083000
DTEND;TZID=Asia/Dubai:20210204T090000
DTSTAMP:20221113T111629
CREATED:20210203T164047Z
LAST-MODIFIED:20210203T192313Z
UID:29281-1612427400-1612429200@www.unaoc.org
SUMMARY:A Celebration of Human Fraternity: Virtual Ceremony
DESCRIPTION:The Higher Committee of Human Fraternity cordially invites you to attend a virtual Celebration of Human Fraternity on 4 February\, 2021\, 5:30pm GST (8:30am EST). \nJoin us as we recognize the honorees of the 2021 Zayed Award for Human Fraternity\, and to commemorate the first United Nations International Day of Human Fraternity. \nThe Zayed Award recognizes the institutions and community of people who are spreading the work of human fraternity and coexistence around the world. It was inspired by the Document on Human Fraternity which was signed by His Eminence the Grand Imam Dr. Ahmed El-Tayeb and His Holiness Pope Francis on February 4\, 2019 in Abu Dhabi\, the capital of the United Arab Emirates. \nThis year\, these two symbols of humanity will once again convene alongside notable leaders from around the world. Together\, we will take the opportunity to reflect on the exceptional accomplishments of this year’s honorees\, and those that inspire us in their daily work — reviving and bringing to life the values of human fraternity across peoples.\nCelebrate with us at www.zayedaward.org on 4 February\, 2021\, at 5:30 PM GST. \nWith peace\,\nThe Higher Committee for Human Fraternity \n\n\n\nhttps://www.unaoc.org/wp-content/uploads/d378bfc3-ccaa-440b-8d6f-d144c7a40040.mp4\n\nWATCH LIVE \n04 FEBRUARY 2021\n5:30—6:00 PM GST\n8:30-9:00 AM EST/New York Time \nWebsite:\nwww.zayedaward.org \n\n\nShare thisClick to share on Twitter (Opens in new window)Click to share on Facebook (Opens in new window)Click to share on LinkedIn (Opens in new window)Click to share on Pinterest (Opens in new window)Click to share on Skype (Opens in new window)Click to share on WhatsApp (Opens in new window)Click to email a link to a friend (Opens in new window)MoreClick to share on Reddit (Opens in new window)Click to share on Tumblr (Opens in new window)Click to print (Opens in new window)Click to share on Pocket (Opens in new window)Click to share on Telegram (Opens in new window)
URL:https://www.unaoc.org/event/a-celebration-of-human-fraternity-virtual-ceremony/
LOCATION:Online
END:VEVENT
END:VCALENDAR