BEGIN:VCALENDAR
VERSION:2.0
PRODID:-//United Nations Alliance of Civilizations (UNAOC) - ECPv5.14.2.1//NONSGML v1.0//EN
CALSCALE:GREGORIAN
METHOD:PUBLISH
X-WR-CALNAME:United Nations Alliance of Civilizations (UNAOC)
X-ORIGINAL-URL:https://www.unaoc.org
X-WR-CALDESC:Events for United Nations Alliance of Civilizations (UNAOC)
BEGIN:VTIMEZONE
TZID:America/Halifax
BEGIN:DAYLIGHT
TZOFFSETFROM:-0400
TZOFFSETTO:-0300
TZNAME:ADT
DTSTART:20200308T060000
END:DAYLIGHT
BEGIN:STANDARD
TZOFFSETFROM:-0300
TZOFFSETTO:-0400
TZNAME:AST
DTSTART:20201101T050000
END:STANDARD
END:VTIMEZONE
BEGIN:VEVENT
DTSTART;VALUE=DATE:20201013
DTEND;VALUE=DATE:20201017
DTSTAMP:20221113T115047
CREATED:20200723T153251Z
LAST-MODIFIED:20201021T172753Z
UID:28105-1602547200-1602892799@www.unaoc.org
SUMMARY:2020 G20 Interfaith Forum
DESCRIPTION:Realizing Opportunities of the 21st Century for All \nThe formal 2020 G20 Interfaith Forum in Riyadh\, Saudi Arabia will take place from 13-16 October 2020. On the way to Riyadh\, there will be regional forums in Argentina\, Belgium\, Ethiopia\, India\, Indonesia\, the Middle East\, and Washington\, D.C. These gatherings will produce statements and recommendations for the formal 2020 G20 Interfaith Forum. In addition\, there are will be two pre-conferences in Riyadh to bring together the KAICIID Youth Programme and KAICIID Fellows right before the 2020 G20 Interfaith Forum in Riyadh that will contribute substantive input for the Forum.  \nView the Livestream Here \n\nCollaborating Partners\nThe G20 Interfaith Forum Association wishes to express particular appreciation for its co-organizing partners this year for the 2020 G20 Interfaith Forum being hosted by the Kingdom of Saudi Arabia:  the King Abdullah Bin Abdulaziz International Centre for Interreligious and Intercultural Dialogue (KAICIID)\, the United Nations Alliance of Civilizations (UNAOC)\, and the Saudi Arabian National Committee for Interfaith and Intercultural Dialogue (NCIRD). \n\nDownload (PDF\, 9.11MB) \n\nShare thisClick to share on Twitter (Opens in new window)Click to share on Facebook (Opens in new window)Click to share on LinkedIn (Opens in new window)Click to share on Pinterest (Opens in new window)Click to share on Skype (Opens in new window)Click to share on WhatsApp (Opens in new window)Click to email a link to a friend (Opens in new window)MoreClick to share on Reddit (Opens in new window)Click to share on Tumblr (Opens in new window)Click to print (Opens in new window)Click to share on Pocket (Opens in new window)Click to share on Telegram (Opens in new window)
URL:https://www.unaoc.org/event/2020-g20-interfaith-forum/
LOCATION:Riyadh\, Saudi Arabia\, Riyadh\, Saudi Arabia
CATEGORIES:International Conference,Virtual Conference
END:VEVENT
END:VCALENDAR