BEGIN:VCALENDAR
VERSION:2.0
PRODID:-//United Nations Alliance of Civilizations (UNAOC) - ECPv6.15.20//NONSGML v1.0//EN
CALSCALE:GREGORIAN
METHOD:PUBLISH
X-WR-CALNAME:United Nations Alliance of Civilizations (UNAOC)
X-ORIGINAL-URL:https://www.unaoc.org
X-WR-CALDESC:Events for United Nations Alliance of Civilizations (UNAOC)
REFRESH-INTERVAL;VALUE=DURATION:PT1H
X-Robots-Tag:noindex
X-PUBLISHED-TTL:PT1H
BEGIN:VTIMEZONE
TZID:America/Halifax
BEGIN:DAYLIGHT
TZOFFSETFROM:-0400
TZOFFSETTO:-0300
TZNAME:ADT
DTSTART:20160313T060000
END:DAYLIGHT
BEGIN:STANDARD
TZOFFSETFROM:-0300
TZOFFSETTO:-0400
TZNAME:AST
DTSTART:20161106T050000
END:STANDARD
BEGIN:DAYLIGHT
TZOFFSETFROM:-0400
TZOFFSETTO:-0300
TZNAME:ADT
DTSTART:20170312T060000
END:DAYLIGHT
BEGIN:STANDARD
TZOFFSETFROM:-0300
TZOFFSETTO:-0400
TZNAME:AST
DTSTART:20171105T050000
END:STANDARD
BEGIN:DAYLIGHT
TZOFFSETFROM:-0400
TZOFFSETTO:-0300
TZNAME:ADT
DTSTART:20180311T060000
END:DAYLIGHT
BEGIN:STANDARD
TZOFFSETFROM:-0300
TZOFFSETTO:-0400
TZNAME:AST
DTSTART:20181104T050000
END:STANDARD
END:VTIMEZONE
BEGIN:VEVENT
DTSTART;VALUE=DATE:20170514
DTEND;VALUE=DATE:20170516
DTSTAMP:20260422T182737
CREATED:20170328T194925Z
LAST-MODIFIED:20170328T195027Z
UID:20833-1494720000-1494892799@www.unaoc.org
SUMMARY:17th Doha Forum
DESCRIPTION:Doha Forum has proved its international presence throughout its previous sixteen conferences since its inception. It regularly discusses political\, economic\, regional and international issues. The Forum has become one of the most important international forums which brings together the largest number of experts\, academics\, politicians\, decision-makers\, specialists\, businessmen and civil society organizations from around the world\, to discuss ways to achieve stability\, regional and global prosperity\, and how to address the challenges hindering stability in the world. The Theme of this seventeenth session of the Doha Forum is entitled: “Development\, Stability and Refugee Crisis”. \nDownload (PDF\, 474KB)
URL:https://www.unaoc.org/event/17th-doha-forum/
LOCATION:Doha\, Qatar\, Doha\, Qatar
CATEGORIES:Forum
END:VEVENT
END:VCALENDAR