BEGIN:VCALENDAR
VERSION:2.0
PRODID:-//United Nations Alliance of Civilizations (UNAOC) - ECPv5.14.2.1//NONSGML v1.0//EN
CALSCALE:GREGORIAN
METHOD:PUBLISH
X-WR-CALNAME:United Nations Alliance of Civilizations (UNAOC)
X-ORIGINAL-URL:https://www.unaoc.org
X-WR-CALDESC:Events for United Nations Alliance of Civilizations (UNAOC)
BEGIN:VTIMEZONE
TZID:America/Halifax
BEGIN:DAYLIGHT
TZOFFSETFROM:-0400
TZOFFSETTO:-0300
TZNAME:ADT
DTSTART:20170312T060000
END:DAYLIGHT
BEGIN:STANDARD
TZOFFSETFROM:-0300
TZOFFSETTO:-0400
TZNAME:AST
DTSTART:20171105T050000
END:STANDARD
END:VTIMEZONE
BEGIN:VEVENT
DTSTART;VALUE=DATE:20170223
DTEND;VALUE=DATE:20170225
DTSTAMP:20221113T143027
CREATED:20170217T151727Z
LAST-MODIFIED:20170217T151810Z
UID:20171-1487808000-1487980799@www.unaoc.org
SUMMARY:11th Plenary Session of the Parliamentary Assembly of the Mediterranean
DESCRIPTION:Organized by the Assembly of the Republic of Portugal \n23 and 24 February 2017 | Alfândega Congress Centre – Porto \nOn Thursday\, 23 February\, Ms. Nihal Saad\, Chief of Cabinet and Spokesperson for the High Representative\, will deliver remarks on behalf of H.E. Nassir Abdulaziz Al-Nasser\, High Representative of the United Nations Alliance of Civilization (UNAOC). \nShare thisClick to share on Twitter (Opens in new window)Click to share on Facebook (Opens in new window)Click to share on LinkedIn (Opens in new window)Click to share on Pinterest (Opens in new window)Click to share on Skype (Opens in new window)Click to share on WhatsApp (Opens in new window)Click to email a link to a friend (Opens in new window)MoreClick to share on Reddit (Opens in new window)Click to share on Tumblr (Opens in new window)Click to print (Opens in new window)Click to share on Pocket (Opens in new window)Click to share on Telegram (Opens in new window)
URL:https://www.unaoc.org/event/11th-plenary-session-of-the-parliamentary-assembly-of-the-mediterranean/
LOCATION:Alfândega Congress Centre (Porto\, Portugal)\, Alfândega Congress Centre\, Porto\, Portugal
CATEGORIES:International Conference
END:VEVENT
END:VCALENDAR